BEGIN:VCALENDAR
VERSION:2.0
PRODID:-//217.160.0.149//NONSGML kigkonsult.se iCalcreator 2.20//
CALSCALE:GREGORIAN
METHOD:PUBLISH
X-WR-TIMEZONE:Europe/Berlin
BEGIN:VEVENT
UID:event1013@Heikendorfer TC v. 1965
DTSTAMP:20260423T101802Z
CATEGORIES:Veranstaltungen
DESCRIPTION:05.11.2022 Arbeitseinsatz Saisonende\nKategorie: Veranstaltunge
 n\nICS-Link: https://heikendorfer-tc.de/index.php?option=com_jem&view=even
 t&id=1013:05-11-2022-arbeitseinsatz-saisonende\n
DTSTART:20221105T100000
DTEND:20221105T120000
LOCATION:HTC Außenplätze/Clubhaus\,Solten Wisch\,24226 Heikendorf
SUMMARY:05.11.2022 Arbeitseinsatz Saisonende
URL:https://heikendorfer-tc.de/index.php?option=com_jem&view=event&id=1013:
 05-11-2022-arbeitseinsatz-saisonende
END:VEVENT
END:VCALENDAR