BEGIN:VCALENDAR
VERSION:2.0
PRODID:-//217.160.0.149//NONSGML kigkonsult.se iCalcreator 2.20//
CALSCALE:GREGORIAN
METHOD:PUBLISH
X-WR-TIMEZONE:Europe/Berlin
BEGIN:VEVENT
UID:event1099@Heikendorfer TC v. 1965
DTSTAMP:20260419T133749Z
CATEGORIES:Veranstaltungen
DESCRIPTION:geschlossene Gesellschaft\nKategorie: Veranstaltungen\nICS-Link
 : https://heikendorfer-tc.de/index.php?option=com_jem&view=event&id=1099:g
 eschlossene-gesellschaft\n
DTSTART:20221118T180000
DTEND:20221118T235900
LOCATION:Heim\,Heikendorf
SUMMARY:geschlossene Gesellschaft
URL:https://heikendorfer-tc.de/index.php?option=com_jem&view=event&id=1099:
 geschlossene-gesellschaft
END:VEVENT
END:VCALENDAR