BEGIN:VCALENDAR
VERSION:2.0
PRODID:-//217.160.0.149//NONSGML kigkonsult.se iCalcreator 2.20//
CALSCALE:GREGORIAN
METHOD:PUBLISH
X-WR-TIMEZONE:Europe/Berlin
BEGIN:VEVENT
UID:event1102@Heikendorfer TC v. 1965
DTSTAMP:20260419T133014Z
CATEGORIES:Veranstaltungen
DESCRIPTION:Vorstandssitzung\nKategorie: Veranstaltungen\nICS-Link: https:/
 /heikendorfer-tc.de/index.php?option=com_jem&view=event&id=1102:vorstandss
 itzung\n
DTSTART:20221108T190000
DTEND:20221108T220000
LOCATION:Heim\,Heikendorf
SUMMARY:Vorstandssitzung
URL:https://heikendorfer-tc.de/index.php?option=com_jem&view=event&id=1102:
 vorstandssitzung
END:VEVENT
END:VCALENDAR