BEGIN:VCALENDAR
VERSION:2.0
PRODID:-//217.160.0.149//NONSGML kigkonsult.se iCalcreator 2.20//
CALSCALE:GREGORIAN
METHOD:PUBLISH
X-WR-TIMEZONE:Europe/Berlin
BEGIN:VEVENT
UID:event1116@Heikendorfer TC v. 1965
DTSTAMP:20260419T133023Z
CATEGORIES:Veranstaltungen
DESCRIPTION:ZDF\nKategorie: Veranstaltungen\nICS-Link: https://heikendorfer
 -tc.de/index.php?option=com_jem&view=event&id=1116:zdf\n
DTSTART;VALUE=DATE:20230116
DTEND;VALUE=DATE:20230119
LOCATION:Heim\,Heikendorf
SUMMARY:ZDF
URL:https://heikendorfer-tc.de/index.php?option=com_jem&view=event&id=1116:
 zdf
END:VEVENT
END:VCALENDAR