BEGIN:VCALENDAR
VERSION:2.0
PRODID:-//217.160.0.149//NONSGML kigkonsult.se iCalcreator 2.20//
CALSCALE:GREGORIAN
METHOD:PUBLISH
X-WR-TIMEZONE:Europe/Berlin
BEGIN:VEVENT
UID:event1117@Heikendorfer TC v. 1965
DTSTAMP:20260423T084659Z
CATEGORIES:Veranstaltungen
DESCRIPTION:Vermietung Clubheim\nKategorie: Veranstaltungen\nICS-Link: http
 s://heikendorfer-tc.de/index.php?option=com_jem&view=event&id=1117:vermiet
 ung-clubheim\n
DTSTART:20230120T170000
DTEND:20230120T235900
LOCATION:Heim\,Heikendorf
SUMMARY:Vermietung Clubheim
URL:https://heikendorfer-tc.de/index.php?option=com_jem&view=event&id=1117:
 vermietung-clubheim
END:VEVENT
END:VCALENDAR