BEGIN:VCALENDAR
VERSION:2.0
PRODID:-//217.160.0.149//NONSGML kigkonsult.se iCalcreator 2.20//
CALSCALE:GREGORIAN
METHOD:PUBLISH
X-WR-TIMEZONE:Europe/Berlin
BEGIN:VEVENT
UID:event1122@Heikendorfer TC v. 1965
DTSTAMP:20260421T124216Z
CATEGORIES:Veranstaltungen
DESCRIPTION:Jahreshauptversammlung \nKategorie: Veranstaltungen\nICS-Link: 
 https://heikendorfer-tc.de/index.php?option=com_jem&view=event&id=1122:jah
 reshauptversammlung\n
DTSTART:20230316T193000
DTEND:20230316T210000
LOCATION:Clubheim\,Solten Wiesch\,24226  Heikendorf
SUMMARY:Jahreshauptversammlung 
URL:https://heikendorfer-tc.de/index.php?option=com_jem&view=event&id=1122:
 jahreshauptversammlung
END:VEVENT
END:VCALENDAR