BEGIN:VCALENDAR
VERSION:2.0
PRODID:-//217.160.0.149//NONSGML kigkonsult.se iCalcreator 2.20//
CALSCALE:GREGORIAN
METHOD:PUBLISH
X-WR-TIMEZONE:Europe/Berlin
BEGIN:VEVENT
UID:event1125@Heikendorfer TC v. 1965
DTSTAMP:20260419T133213Z
CATEGORIES:Veranstaltungen
DESCRIPTION:Arbeitseinsatz\nKategorie: Veranstaltungen\nICS-Link: https://h
 eikendorfer-tc.de/index.php?option=com_jem&view=event&id=1125:arbeitseinsa
 tz\n
DTSTART;VALUE=DATE:20230520
DTEND;VALUE=DATE:20230521
SUMMARY:Arbeitseinsatz
URL:https://heikendorfer-tc.de/index.php?option=com_jem&view=event&id=1125:
 arbeitseinsatz
END:VEVENT
END:VCALENDAR