BEGIN:VCALENDAR
VERSION:2.0
PRODID:-//217.160.0.149//NONSGML kigkonsult.se iCalcreator 2.20//
CALSCALE:GREGORIAN
METHOD:PUBLISH
X-WR-TIMEZONE:Europe/Berlin
BEGIN:VEVENT
UID:event1129@Heikendorfer TC v. 1965
DTSTAMP:20260419T133023Z
CATEGORIES:Veranstaltungen
DESCRIPTION:Jugendversammlung\nKategorie: Veranstaltungen\nICS-Link: https:
 //heikendorfer-tc.de/index.php?option=com_jem&view=event&id=1129:jugendver
 sammlung\n
DTSTART:20230316T183000
DTEND:20230316T193000
SUMMARY:Jugendversammlung
URL:https://heikendorfer-tc.de/index.php?option=com_jem&view=event&id=1129:
 jugendversammlung
END:VEVENT
END:VCALENDAR