BEGIN:VCALENDAR
VERSION:2.0
PRODID:-//217.160.0.149//NONSGML kigkonsult.se iCalcreator 2.20//
CALSCALE:GREGORIAN
METHOD:PUBLISH
X-WR-TIMEZONE:Europe/Berlin
BEGIN:VEVENT
UID:event1189@Heikendorfer TC v. 1965
DTSTAMP:20260419T121450Z
CATEGORIES:Veranstaltungen
DESCRIPTION:Ausbildungsveranstaltung IQSH\nKategorie: Veranstaltungen\nICS-
 Link: https://heikendorfer-tc.de/index.php?option=com_jem&view=event&id=11
 89:ausbildungsveranstaltung-iqsh\n
DTSTART:20230830T083000
DTEND:20230830T133000
SUMMARY:Ausbildungsveranstaltung IQSH
URL:https://heikendorfer-tc.de/index.php?option=com_jem&view=event&id=1189:
 ausbildungsveranstaltung-iqsh
END:VEVENT
END:VCALENDAR