BEGIN:VCALENDAR
VERSION:2.0
PRODID:-//217.160.0.149//NONSGML kigkonsult.se iCalcreator 2.20//
CALSCALE:GREGORIAN
METHOD:PUBLISH
X-WR-TIMEZONE:Europe/Berlin
BEGIN:VEVENT
UID:event1190@Heikendorfer TC v. 1965
DTSTAMP:20260419T115727Z
CATEGORIES:Veranstaltungen
DESCRIPTION:Arbeitseinsatz\nKategorie: Veranstaltungen\nICS-Link: https://h
 eikendorfer-tc.de/index.php?option=com_jem&view=event&id=1190:arbeitseinsa
 tz\n
DTSTART:20240302T100000
DTEND:20240302T140000
SUMMARY:Arbeitseinsatz
URL:https://heikendorfer-tc.de/index.php?option=com_jem&view=event&id=1190:
 arbeitseinsatz
END:VEVENT
END:VCALENDAR