BEGIN:VCALENDAR
VERSION:2.0
PRODID:-//217.160.0.149//NONSGML kigkonsult.se iCalcreator 2.20//
CALSCALE:GREGORIAN
METHOD:PUBLISH
X-WR-TIMEZONE:Europe/Berlin
BEGIN:VEVENT
UID:event1198@Heikendorfer TC v. 1965
DTSTAMP:20260423T101656Z
CATEGORIES:Turnier
DESCRIPTION:Herbst LK Turnier Erwachsene\nKategorie: Turnier\nICS-Link: htt
 ps://heikendorfer-tc.de/index.php?option=com_jem&view=event&id=1198:herbst
 -lk-turnier-erwachsene&Itemid=1798\n
DTSTART:20240922T090000
DTEND:20240922T160000
SUMMARY:Herbst LK Turnier Erwachsene
URL:https://heikendorfer-tc.de/index.php?option=com_jem&view=event&id=1198:
 herbst-lk-turnier-erwachsene&Itemid=1798
END:VEVENT
END:VCALENDAR