BEGIN:VCALENDAR
VERSION:2.0
PRODID:-//217.160.0.149//NONSGML kigkonsult.se iCalcreator 2.20//
CALSCALE:GREGORIAN
METHOD:PUBLISH
X-WR-TIMEZONE:Europe/Berlin
BEGIN:VEVENT
UID:event1202@Heikendorfer TC v. 1965
DTSTAMP:20260419T121624Z
CATEGORIES:Veranstaltungen
DESCRIPTION:Zuschauen beim ersten Punktspiel der Saison - Essen & Trinken\n
 Kategorie: Veranstaltungen\nICS-Link: https://heikendorfer-tc.de/index.php
 ?option=com_jem&view=event&id=1202:zuschauen-beim-ersten-punktspiel-der-sa
 ison-essen-trinken\n
DTSTART;VALUE=DATE:20240504
DTEND;VALUE=DATE:20240505
LOCATION:HTC Außenplätze/Clubhaus\,Solten Wisch\,24226 Heikendorf
SUMMARY:Zuschauen beim ersten Punktspiel der Saison - Essen & Trinken
URL:https://heikendorfer-tc.de/index.php?option=com_jem&view=event&id=1202:
 zuschauen-beim-ersten-punktspiel-der-saison-essen-trinken
END:VEVENT
END:VCALENDAR