BEGIN:VCALENDAR
VERSION:2.0
PRODID:-//217.160.0.149//NONSGML kigkonsult.se iCalcreator 2.20//
CALSCALE:GREGORIAN
METHOD:PUBLISH
X-WR-TIMEZONE:Europe/Berlin
BEGIN:VEVENT
UID:event1203@Heikendorfer TC v. 1965
DTSTAMP:20260419T121450Z
CATEGORIES:Veranstaltungen
DESCRIPTION:Deutschland spielt Tennis\nKategorie: Veranstaltungen\nICS-Link
 : https://heikendorfer-tc.de/index.php?option=com_jem&view=event&id=1203:d
 eutschland-spielt-tennis\n
DTSTART;VALUE=DATE:20240428
DTEND;VALUE=DATE:20240429
LOCATION:HTC Außenplätze/Clubhaus\,Solten Wisch\,24226 Heikendorf
SUMMARY:Deutschland spielt Tennis
URL:https://heikendorfer-tc.de/index.php?option=com_jem&view=event&id=1203:
 deutschland-spielt-tennis
END:VEVENT
END:VCALENDAR