BEGIN:VCALENDAR
VERSION:2.0
PRODID:-//217.160.0.149//NONSGML kigkonsult.se iCalcreator 2.20//
CALSCALE:GREGORIAN
METHOD:PUBLISH
X-WR-TIMEZONE:Europe/Berlin
BEGIN:VEVENT
UID:event1204@Heikendorfer TC v. 1965
DTSTAMP:20260419T115725Z
CATEGORIES:Veranstaltungen
DESCRIPTION:Jahreshauptversammlung 2024 (mit anschließendem netten Beisamme
 nsein)\nKategorie: Veranstaltungen\nICS-Link: https://heikendorfer-tc.de/i
 ndex.php?option=com_jem&view=event&id=1204:jahreshauptversammlung-2024\n
DTSTART:20240322T193000
DTEND:20240322T210000
LOCATION:HTC Außenplätze/Clubhaus\,Solten Wisch\,24226 Heikendorf
SUMMARY:Jahreshauptversammlung 2024 (mit anschließendem netten Beisammensei
 n)
URL:https://heikendorfer-tc.de/index.php?option=com_jem&view=event&id=1204:
 jahreshauptversammlung-2024
END:VEVENT
END:VCALENDAR