BEGIN:VCALENDAR
VERSION:2.0
PRODID:-//217.160.0.149//NONSGML kigkonsult.se iCalcreator 2.20//
CALSCALE:GREGORIAN
METHOD:PUBLISH
X-WR-TIMEZONE:Europe/Berlin
BEGIN:VEVENT
UID:event131@Heikendorfer TC v. 1965
DTSTAMP:20260423T102454Z
CATEGORIES:Veranstaltungen
DESCRIPTION:Jugend A-Kreismeisterschaften KTV-Plön e. V.\nKategorie: Verans
 taltungen\nICS-Link: https://heikendorfer-tc.de/index.php?option=com_jem&v
 iew=event&id=131:jugend-a-kreismeisterschaften-ktv-ploen-e-v\n
DTSTART:20170114T080000
DTEND:20170115T170000
LOCATION:Sportpark Wellsee Kiel\,Braunstrasse 40\,24145 Kiel
SUMMARY:Jugend A-Kreismeisterschaften KTV-Plön e. V.
URL:https://heikendorfer-tc.de/index.php?option=com_jem&view=event&id=131:j
 ugend-a-kreismeisterschaften-ktv-ploen-e-v
END:VEVENT
END:VCALENDAR