BEGIN:VCALENDAR
VERSION:2.0
PRODID:-//217.160.0.149//NONSGML kigkonsult.se iCalcreator 2.20//
CALSCALE:GREGORIAN
METHOD:PUBLISH
X-WR-TIMEZONE:Europe/Berlin
BEGIN:VEVENT
UID:event132@Heikendorfer TC v. 1965
DTSTAMP:20260423T084632Z
CATEGORIES:Veranstaltungen
DESCRIPTION:Jugend-Bezirksmeisterschaften TVSH - Bezirk Ost \nKategorie: Ve
 ranstaltungen\nICS-Link: https://heikendorfer-tc.de/index.php?option=com_j
 em&view=event&id=132:jugend-bezirksmeisterschaften-tvsh-bezirk-ost\n
DTSTART:20170127T140000
DTEND:20170129T180000
LOCATION:Sportpark Wellsee Kiel\,Braunstrasse 40\,24145 Kiel
SUMMARY:Jugend-Bezirksmeisterschaften TVSH - Bezirk Ost 
URL:https://heikendorfer-tc.de/index.php?option=com_jem&view=event&id=132:j
 ugend-bezirksmeisterschaften-tvsh-bezirk-ost
END:VEVENT
END:VCALENDAR