BEGIN:VCALENDAR
VERSION:2.0
PRODID:-//217.160.0.149//NONSGML kigkonsult.se iCalcreator 2.20//
CALSCALE:GREGORIAN
METHOD:PUBLISH
X-WR-TIMEZONE:Europe/Berlin
BEGIN:VEVENT
UID:event134@Heikendorfer TC v. 1965
DTSTAMP:20260423T102412Z
CATEGORIES:Veranstaltungen
DESCRIPTION:Verbandsjugendmeisterschaften U12 Winter 2016/2017\nKategorie: 
 Veranstaltungen\nICS-Link: https://heikendorfer-tc.de/index.php?option=com
 _jem&view=event&id=134:verbandsjugendmeisterschaften-u12-winter-2016-2017
 \n
DTSTART:20170217T150000
DTEND:20170219T160000
LOCATION:Sportpark Wellsee Kiel\,Braunstrasse 40\,24145 Kiel
SUMMARY:Verbandsjugendmeisterschaften U12 Winter 2016/2017
URL:https://heikendorfer-tc.de/index.php?option=com_jem&view=event&id=134:v
 erbandsjugendmeisterschaften-u12-winter-2016-2017
END:VEVENT
END:VCALENDAR