BEGIN:VCALENDAR
VERSION:2.0
PRODID:-//217.160.0.149//NONSGML kigkonsult.se iCalcreator 2.20//
CALSCALE:GREGORIAN
METHOD:PUBLISH
X-WR-TIMEZONE:Europe/Berlin
BEGIN:VEVENT
UID:event135@Heikendorfer TC v. 1965
DTSTAMP:20260423T084644Z
CATEGORIES:Veranstaltungen
DESCRIPTION:Verbandsjugendmeisterschaften U14/U16 Winter 2016/2017\nKategor
 ie: Veranstaltungen\nICS-Link: https://heikendorfer-tc.de/index.php?option
 =com_jem&view=event&id=135:verbandsjugendmeisterschaften-u14-u16-winter-20
 16-2017\n
DTSTART:20170224T150000
DTEND:20170226T160000
LOCATION:Sportpark Wellsee Kiel\,Braunstrasse 40\,24145 Kiel
SUMMARY:Verbandsjugendmeisterschaften U14/U16 Winter 2016/2017
URL:https://heikendorfer-tc.de/index.php?option=com_jem&view=event&id=135:v
 erbandsjugendmeisterschaften-u14-u16-winter-2016-2017
END:VEVENT
END:VCALENDAR