BEGIN:VCALENDAR
VERSION:2.0
PRODID:-//217.160.0.149//NONSGML kigkonsult.se iCalcreator 2.20//
CALSCALE:GREGORIAN
METHOD:PUBLISH
X-WR-TIMEZONE:Europe/Berlin
BEGIN:VEVENT
UID:event136@Heikendorfer TC v. 1965
DTSTAMP:20260419T134934Z
CATEGORIES:Veranstaltungen
DESCRIPTION:Jahreshauptversammlung 2017\nKategorie: Veranstaltungen\nICS-Li
 nk: https://heikendorfer-tc.de/index.php?option=com_jem&view=event&id=136:
 jahreshauptversammlung-2017\n
DTSTART:20170316T193000
DTEND:20170316T220000
LOCATION:HTC Außenplätze/Clubhaus\,Solten Wisch\,24226 Heikendorf
SUMMARY:Jahreshauptversammlung 2017
URL:https://heikendorfer-tc.de/index.php?option=com_jem&view=event&id=136:j
 ahreshauptversammlung-2017
END:VEVENT
END:VCALENDAR