BEGIN:VCALENDAR
VERSION:2.0
PRODID:-//217.160.0.149//NONSGML kigkonsult.se iCalcreator 2.20//
CALSCALE:GREGORIAN
METHOD:PUBLISH
X-WR-TIMEZONE:Europe/Berlin
BEGIN:VEVENT
UID:event137@Heikendorfer TC v. 1965
DTSTAMP:20260425T124652Z
CATEGORIES:Veranstaltungen
DESCRIPTION:Sommercamp 1 Jugend\nKategorie: Veranstaltungen\nICS-Link: http
 s://heikendorfer-tc.de/index.php?option=com_jem&view=event&id=137:sommerca
 mp-1-jugend\n
DTSTART:20160725T100000
DTEND:20160729T150000
LOCATION:Heim\,Heikendorf
SUMMARY:Sommercamp 1 Jugend
URL:https://heikendorfer-tc.de/index.php?option=com_jem&view=event&id=137:s
 ommercamp-1-jugend
END:VEVENT
END:VCALENDAR