BEGIN:VCALENDAR
VERSION:2.0
PRODID:-//217.160.0.149//NONSGML kigkonsult.se iCalcreator 2.20//
CALSCALE:GREGORIAN
METHOD:PUBLISH
X-WR-TIMEZONE:Europe/Berlin
BEGIN:VEVENT
UID:event138@Heikendorfer TC v. 1965
DTSTAMP:20260419T134750Z
CATEGORIES:Veranstaltungen
DESCRIPTION:HTC Sommercamp 1  2017\nKategorie: Veranstaltungen\nICS-Link: h
 ttps://heikendorfer-tc.de/index.php?option=com_jem&view=event&id=138:htc-s
 ommercamp-1-2017\n
DTSTART:20170724T100000
DTEND:20170727T150000
LOCATION:HTC Außenplätze/Clubhaus\,Solten Wisch\,24226 Heikendorf
SUMMARY:HTC Sommercamp 1  2017
URL:https://heikendorfer-tc.de/index.php?option=com_jem&view=event&id=138:h
 tc-sommercamp-1-2017
END:VEVENT
END:VCALENDAR