BEGIN:VCALENDAR
VERSION:2.0
PRODID:-//217.160.0.149//NONSGML kigkonsult.se iCalcreator 2.20//
CALSCALE:GREGORIAN
METHOD:PUBLISH
X-WR-TIMEZONE:Europe/Berlin
BEGIN:VEVENT
UID:event140@Heikendorfer TC v. 1965
DTSTAMP:20260419T152201Z
CATEGORIES:Veranstaltungen
DESCRIPTION:4. Ostsee Cup 2017\nKategorie: Veranstaltungen\nICS-Link: https
 ://heikendorfer-tc.de/index.php?option=com_jem&view=event&id=140:4-ostsee-
 cup-2017\n
DTSTART:20170728T090000
DTEND:20170730T200000
LOCATION:Heim\,Heikendorf
SUMMARY:4. Ostsee Cup 2017
URL:https://heikendorfer-tc.de/index.php?option=com_jem&view=event&id=140:4
 -ostsee-cup-2017
END:VEVENT
END:VCALENDAR