BEGIN:VCALENDAR
VERSION:2.0
PRODID:-//217.160.0.149//NONSGML kigkonsult.se iCalcreator 2.20//
CALSCALE:GREGORIAN
METHOD:PUBLISH
X-WR-TIMEZONE:Europe/Berlin
BEGIN:VEVENT
UID:event142@Heikendorfer TC v. 1965
DTSTAMP:20260419T135015Z
CATEGORIES:Veranstaltungen
DESCRIPTION:Einladung zur HTC-Jugendversammlung 2017\nKategorie: Veranstalt
 ungen\nICS-Link: https://heikendorfer-tc.de/index.php?option=com_jem&view=
 event&id=142:einladung-zur-htc-jugendversammlung-2017\n
DTSTART:20170316T183000
DTEND:20170316T193000
LOCATION:HTC Außenplätze/Clubhaus\,Solten Wisch\,24226 Heikendorf
SUMMARY:Einladung zur HTC-Jugendversammlung 2017
URL:https://heikendorfer-tc.de/index.php?option=com_jem&view=event&id=142:e
 inladung-zur-htc-jugendversammlung-2017
END:VEVENT
END:VCALENDAR