BEGIN:VCALENDAR
VERSION:2.0
PRODID:-//217.160.0.149//NONSGML kigkonsult.se iCalcreator 2.20//
CALSCALE:GREGORIAN
METHOD:PUBLISH
X-WR-TIMEZONE:Europe/Berlin
BEGIN:VEVENT
UID:event143@Heikendorfer TC v. 1965
DTSTAMP:20260419T134709Z
CATEGORIES:Veranstaltungen
DESCRIPTION:Cap-Cup\nKategorie: Veranstaltungen\nICS-Link: https://heikendo
 rfer-tc.de/index.php?option=com_jem&view=event&id=143:cap-cup\n
DTSTART:20170429T130000
DTEND:20170429T170000
LOCATION:HTC Außenplätze/Clubhaus\,Solten Wisch\,24226 Heikendorf
SUMMARY:Cap-Cup
URL:https://heikendorfer-tc.de/index.php?option=com_jem&view=event&id=143:c
 ap-cup
END:VEVENT
END:VCALENDAR