BEGIN:VCALENDAR
VERSION:2.0
PRODID:-//217.160.0.149//NONSGML kigkonsult.se iCalcreator 2.20//
CALSCALE:GREGORIAN
METHOD:PUBLISH
X-WR-TIMEZONE:Europe/Berlin
BEGIN:VEVENT
UID:event144@Heikendorfer TC v. 1965
DTSTAMP:20260419T152201Z
CATEGORIES:Veranstaltungen
DESCRIPTION:Kuddel-Muddel-Spaß-Turnier\nKategorie: Veranstaltungen\nICS-Lin
 k: https://heikendorfer-tc.de/index.php?option=com_jem&view=event&id=144:k
 uddel-muddel-spass-turnier\n
DTSTART:20170430T130000
DTEND:20170430T180000
LOCATION:HTC Außenplätze/Clubhaus\,Solten Wisch\,24226 Heikendorf
SUMMARY:Kuddel-Muddel-Spaß-Turnier
URL:https://heikendorfer-tc.de/index.php?option=com_jem&view=event&id=144:k
 uddel-muddel-spass-turnier
END:VEVENT
END:VCALENDAR