BEGIN:VCALENDAR
VERSION:2.0
PRODID:-//217.160.0.149//NONSGML kigkonsult.se iCalcreator 2.20//
CALSCALE:GREGORIAN
METHOD:PUBLISH
X-WR-TIMEZONE:Europe/Berlin
BEGIN:VEVENT
UID:event145@Heikendorfer TC v. 1965
DTSTAMP:20260419T152507Z
CATEGORIES:Veranstaltungen
DESCRIPTION:Tanz-in-den-Mai\nKategorie: Veranstaltungen\nICS-Link: https://
 heikendorfer-tc.de/index.php?option=com_jem&view=event&id=145:tanz-in-den-
 mai\n
DTSTART:20170430T200000
DTEND:20170501T030000
LOCATION:HTC Außenplätze/Clubhaus\,Solten Wisch\,24226 Heikendorf
SUMMARY:Tanz-in-den-Mai
URL:https://heikendorfer-tc.de/index.php?option=com_jem&view=event&id=145:t
 anz-in-den-mai
END:VEVENT
END:VCALENDAR