BEGIN:VCALENDAR
VERSION:2.0
PRODID:-//217.160.0.149//NONSGML kigkonsult.se iCalcreator 2.20//
CALSCALE:GREGORIAN
METHOD:PUBLISH
X-WR-TIMEZONE:Europe/Berlin
BEGIN:VEVENT
UID:event225@Heikendorfer TC v. 1965
DTSTAMP:20260419T134955Z
CATEGORIES:Veranstaltungen
DESCRIPTION:!! ENTFÄLLT !! Kleiner Arbeitseinsatz Saisonvorbereitung\nKateg
 orie: Veranstaltungen\nICS-Link: https://heikendorfer-tc.de/index.php?opti
 on=com_jem&view=event&id=225:kleiner-arbeitseinsatz-saisonvorbereitung\n
DTSTART:20170318T100000
DTEND:20170318T130000
LOCATION:HTC Außenplätze/Clubhaus\,Solten Wisch\,24226 Heikendorf
SUMMARY:!! ENTFÄLLT !! Kleiner Arbeitseinsatz Saisonvorbereitung
URL:https://heikendorfer-tc.de/index.php?option=com_jem&view=event&id=225:k
 leiner-arbeitseinsatz-saisonvorbereitung
END:VEVENT
END:VCALENDAR