BEGIN:VCALENDAR
VERSION:2.0
PRODID:-//217.160.0.149//NONSGML kigkonsult.se iCalcreator 2.20//
CALSCALE:GREGORIAN
METHOD:PUBLISH
X-WR-TIMEZONE:Europe/Berlin
BEGIN:VEVENT
UID:event227@Heikendorfer TC v. 1965
DTSTAMP:20260423T101105Z
CATEGORIES:Veranstaltungen
DESCRIPTION:HTC Sommerparty 2017\nKategorie: Veranstaltungen\nICS-Link: htt
 ps://heikendorfer-tc.de/index.php?option=com_jem&view=event&id=227:htc-som
 merparty-2017\n
DTSTART:20170722T200000
DTEND:20170722T200000
LOCATION:HTC Außenplätze/Clubhaus\,Solten Wisch\,24226 Heikendorf
SUMMARY:HTC Sommerparty 2017
URL:https://heikendorfer-tc.de/index.php?option=com_jem&view=event&id=227:h
 tc-sommerparty-2017
END:VEVENT
END:VCALENDAR