BEGIN:VCALENDAR
VERSION:2.0
PRODID:-//217.160.0.149//NONSGML kigkonsult.se iCalcreator 2.20//
CALSCALE:GREGORIAN
METHOD:PUBLISH
X-WR-TIMEZONE:Europe/Berlin
BEGIN:VEVENT
UID:event228@Heikendorfer TC v. 1965
DTSTAMP:20260419T135146Z
CATEGORIES:Veranstaltungen
DESCRIPTION:Clubmeisterschaften 2017 Jugend\nKategorie: Veranstaltungen\nIC
 S-Link: https://heikendorfer-tc.de/index.php?option=com_jem&view=event&id=
 228:clubmeisterschaften-2017-jugend\n
DTSTART:20170915T090000
DTEND:20170917T200000
LOCATION:HTC Außenplätze/Clubhaus\,Solten Wisch\,24226 Heikendorf
SUMMARY:Clubmeisterschaften 2017 Jugend
URL:https://heikendorfer-tc.de/index.php?option=com_jem&view=event&id=228:c
 lubmeisterschaften-2017-jugend
END:VEVENT
END:VCALENDAR