BEGIN:VCALENDAR
VERSION:2.0
PRODID:-//217.160.0.149//NONSGML kigkonsult.se iCalcreator 2.20//
CALSCALE:GREGORIAN
METHOD:PUBLISH
X-WR-TIMEZONE:Europe/Berlin
BEGIN:VEVENT
UID:event270@Heikendorfer TC v. 1965
DTSTAMP:20260419T134909Z
CATEGORIES:Veranstaltungen
DESCRIPTION:Jahreshauptversammlung 2018\nKategorie: Veranstaltungen\nICS-Li
 nk: https://heikendorfer-tc.de/index.php?option=com_jem&view=event&id=270:
 jahreshauptversammlung-2018\n
DTSTART:20180315T193000
DTEND:20180315T213000
LOCATION:HTC Außenplätze/Clubhaus\,Solten Wisch\,24226 Heikendorf
SUMMARY:Jahreshauptversammlung 2018
URL:https://heikendorfer-tc.de/index.php?option=com_jem&view=event&id=270:j
 ahreshauptversammlung-2018
END:VEVENT
END:VCALENDAR