BEGIN:VCALENDAR
VERSION:2.0
PRODID:-//217.160.0.149//NONSGML kigkonsult.se iCalcreator 2.20//
CALSCALE:GREGORIAN
METHOD:PUBLISH
X-WR-TIMEZONE:Europe/Berlin
BEGIN:VEVENT
UID:event271@Heikendorfer TC v. 1965
DTSTAMP:20260419T152417Z
CATEGORIES:Veranstaltungen
DESCRIPTION:1. Arbeitseinsatz Platzvorbereitung\nKategorie: Veranstaltungen
 \nICS-Link: https://heikendorfer-tc.de/index.php?option=com_jem&view=event
 &id=271:1-arbeitseinsatz-platzvorbereitung\n
DTSTART:20180324T100000
DTEND:20180324T120000
LOCATION:HTC Außenplätze/Clubhaus\,Solten Wisch\,24226 Heikendorf
SUMMARY:1. Arbeitseinsatz Platzvorbereitung
URL:https://heikendorfer-tc.de/index.php?option=com_jem&view=event&id=271:1
 -arbeitseinsatz-platzvorbereitung
END:VEVENT
END:VCALENDAR