BEGIN:VCALENDAR
VERSION:2.0
PRODID:-//217.160.0.149//NONSGML kigkonsult.se iCalcreator 2.20//
CALSCALE:GREGORIAN
METHOD:PUBLISH
X-WR-TIMEZONE:Europe/Berlin
BEGIN:VEVENT
UID:event375@Heikendorfer TC v. 1965
DTSTAMP:20260419T134941Z
CATEGORIES:Veranstaltungen
DESCRIPTION:Großer Arbeitseinsatz Saisonvorbereitung 2018\nKategorie: Veran
 staltungen\nICS-Link: https://heikendorfer-tc.de/index.php?option=com_jem&
 view=event&id=375:grosser-arbeitseinsatz-saisonvorbereitung-2018\n
DTSTART:20180414T100000
DTEND:20180414T120000
LOCATION:HTC Außenplätze/Clubhaus\,Solten Wisch\,24226 Heikendorf
SUMMARY:Großer Arbeitseinsatz Saisonvorbereitung 2018
URL:https://heikendorfer-tc.de/index.php?option=com_jem&view=event&id=375:g
 rosser-arbeitseinsatz-saisonvorbereitung-2018
END:VEVENT
END:VCALENDAR