BEGIN:VCALENDAR
VERSION:2.0
PRODID:-//217.160.0.149//NONSGML kigkonsult.se iCalcreator 2.20//
CALSCALE:GREGORIAN
METHOD:PUBLISH
X-WR-TIMEZONE:Europe/Berlin
BEGIN:VEVENT
UID:event376@Heikendorfer TC v. 1965
DTSTAMP:20260419T133708Z
CATEGORIES:Veranstaltungen
DESCRIPTION:Tanz in den Mai 2018\nKategorie: Veranstaltungen\nICS-Link: htt
 ps://heikendorfer-tc.de/index.php?option=com_jem&view=event&id=376:tanz-in
 -den-mai\n
DTSTART:20180430T190000
DTEND:20180501T050000
LOCATION:HTC Außenplätze/Clubhaus\,Solten Wisch\,24226 Heikendorf
SUMMARY:Tanz in den Mai 2018
URL:https://heikendorfer-tc.de/index.php?option=com_jem&view=event&id=376:t
 anz-in-den-mai
END:VEVENT
END:VCALENDAR