BEGIN:VCALENDAR
VERSION:2.0
PRODID:-//217.160.0.149//NONSGML kigkonsult.se iCalcreator 2.20//
CALSCALE:GREGORIAN
METHOD:PUBLISH
X-WR-TIMEZONE:Europe/Berlin
BEGIN:VEVENT
UID:event377@Heikendorfer TC v. 1965
DTSTAMP:20260419T170802Z
CATEGORIES:Veranstaltungen
DESCRIPTION:Clubmeisterschaften 2018 Erwachsene\nKategorie: Veranstaltungen
 \nICS-Link: https://heikendorfer-tc.de/index.php?option=com_jem&view=event
 &id=377:clubmeisterschaften-2018\n
DTSTART;VALUE=DATE:20180601
DTEND;VALUE=DATE:20180602
LOCATION:HTC Außenplätze/Clubhaus\,Solten Wisch\,24226 Heikendorf
SUMMARY:Clubmeisterschaften 2018 Erwachsene
URL:https://heikendorfer-tc.de/index.php?option=com_jem&view=event&id=377:c
 lubmeisterschaften-2018
END:VEVENT
END:VCALENDAR