BEGIN:VCALENDAR
VERSION:2.0
PRODID:-//217.160.0.149//NONSGML kigkonsult.se iCalcreator 2.20//
CALSCALE:GREGORIAN
METHOD:PUBLISH
X-WR-TIMEZONE:Europe/Berlin
BEGIN:VEVENT
UID:event379@Heikendorfer TC v. 1965
DTSTAMP:20260423T102303Z
CATEGORIES:Veranstaltungen
DESCRIPTION:Jugend Clubmeisterschaft 2018\nKategorie: Veranstaltungen\nICS-
 Link: https://heikendorfer-tc.de/index.php?option=com_jem&view=event&id=37
 9:jugend-clubmeisterschaft-2018\n
DTSTART;VALUE=DATE:20180921
DTEND;VALUE=DATE:20180924
SUMMARY:Jugend Clubmeisterschaft 2018
URL:https://heikendorfer-tc.de/index.php?option=com_jem&view=event&id=379:j
 ugend-clubmeisterschaft-2018
END:VEVENT
END:VCALENDAR