BEGIN:VCALENDAR
VERSION:2.0
PRODID:-//217.160.0.149//NONSGML kigkonsult.se iCalcreator 2.20//
CALSCALE:GREGORIAN
METHOD:PUBLISH
X-WR-TIMEZONE:Europe/Berlin
BEGIN:VEVENT
UID:event422@Heikendorfer TC v. 1965
DTSTAMP:20260423T101935Z
CATEGORIES:Veranstaltungen
DESCRIPTION:Arbeitseinsatz Ende Sommersaison 2018\nKategorie: Veranstaltung
 en\nICS-Link: https://heikendorfer-tc.de/index.php?option=com_jem&view=eve
 nt&id=422:arbeitseinsatz-ende-sommersaison-2018\n
DTSTART:20181027T100000
DTEND:20181027T120000
LOCATION:HTC Außenplätze/Clubhaus\,Solten Wisch\,24226 Heikendorf
SUMMARY:Arbeitseinsatz Ende Sommersaison 2018
URL:https://heikendorfer-tc.de/index.php?option=com_jem&view=event&id=422:a
 rbeitseinsatz-ende-sommersaison-2018
END:VEVENT
END:VCALENDAR