BEGIN:VCALENDAR
VERSION:2.0
PRODID:-//217.160.0.149//NONSGML kigkonsult.se iCalcreator 2.20//
CALSCALE:GREGORIAN
METHOD:PUBLISH
X-WR-TIMEZONE:Europe/Berlin
BEGIN:VEVENT
UID:event423@Heikendorfer TC v. 1965
DTSTAMP:20260419T133239Z
CATEGORIES:Veranstaltungen
DESCRIPTION:Jahreshauptversammlung 2019\nKategorie: Veranstaltungen\nICS-Li
 nk: https://heikendorfer-tc.de/index.php?option=com_jem&view=event&id=423:
 jahreshauptversammlung-2019\n
DTSTART:20190321T193000
DTEND:20190321T213000
LOCATION:HTC Außenplätze/Clubhaus\,Solten Wisch\,24226 Heikendorf
SUMMARY:Jahreshauptversammlung 2019
URL:https://heikendorfer-tc.de/index.php?option=com_jem&view=event&id=423:j
 ahreshauptversammlung-2019
END:VEVENT
END:VCALENDAR