BEGIN:VCALENDAR
VERSION:2.0
PRODID:-//217.160.0.149//NONSGML kigkonsult.se iCalcreator 2.20//
CALSCALE:GREGORIAN
METHOD:PUBLISH
X-WR-TIMEZONE:Europe/Berlin
BEGIN:VEVENT
UID:event424@Heikendorfer TC v. 1965
DTSTAMP:20260419T133304Z
CATEGORIES:Veranstaltungen
DESCRIPTION:Großer Arbeitseinsatz Saisonvorbereitung 2019\nKategorie: Veran
 staltungen\nICS-Link: https://heikendorfer-tc.de/index.php?option=com_jem&
 view=event&id=424:grosser-arbeitseinsatz-saisonvorbereitung-2019\n
DTSTART:20190330T100000
DTEND:20190330T120000
LOCATION:HTC Außenplätze/Clubhaus\,Solten Wisch\,24226 Heikendorf
SUMMARY:Großer Arbeitseinsatz Saisonvorbereitung 2019
URL:https://heikendorfer-tc.de/index.php?option=com_jem&view=event&id=424:g
 rosser-arbeitseinsatz-saisonvorbereitung-2019
END:VEVENT
END:VCALENDAR