BEGIN:VCALENDAR
VERSION:2.0
PRODID:-//217.160.0.149//NONSGML kigkonsult.se iCalcreator 2.20//
CALSCALE:GREGORIAN
METHOD:PUBLISH
X-WR-TIMEZONE:Europe/Berlin
BEGIN:VEVENT
UID:event574@Heikendorfer TC v. 1965
DTSTAMP:20260423T114807Z
CATEGORIES:Veranstaltungen
DESCRIPTION:Clubmeisterschaften 2019 Erwachsene\nKategorie: Veranstaltungen
 \nICS-Link: https://heikendorfer-tc.de/index.php?option=com_jem&view=event
 &id=574:clubmeisterschaften-2019-erwachsene\n
DTSTART;VALUE=DATE:20190518
DTEND;VALUE=DATE:20190519
LOCATION:HTC Außenplätze/Clubhaus\,Solten Wisch\,24226 Heikendorf
SUMMARY:Clubmeisterschaften 2019 Erwachsene
URL:https://heikendorfer-tc.de/index.php?option=com_jem&view=event&id=574:c
 lubmeisterschaften-2019-erwachsene
END:VEVENT
END:VCALENDAR