BEGIN:VCALENDAR
VERSION:2.0
PRODID:-//217.160.0.149//NONSGML kigkonsult.se iCalcreator 2.20//
CALSCALE:GREGORIAN
METHOD:PUBLISH
X-WR-TIMEZONE:Europe/Berlin
BEGIN:VEVENT
UID:event575@Heikendorfer TC v. 1965
DTSTAMP:20260423T113612Z
CATEGORIES:Veranstaltungen
DESCRIPTION:HTC Jugend-Sommercamp 1 2019\nKategorie: Veranstaltungen\nICS-L
 ink: https://heikendorfer-tc.de/index.php?option=com_jem&view=event&id=575
 :htc-jugend-sommercamp-1-2019\n
DTSTART;VALUE=DATE:20190701
DTEND;VALUE=DATE:20190706
LOCATION:HTC Außenplätze/Clubhaus\,Solten Wisch\,24226 Heikendorf
SUMMARY:HTC Jugend-Sommercamp 1 2019
URL:https://heikendorfer-tc.de/index.php?option=com_jem&view=event&id=575:h
 tc-jugend-sommercamp-1-2019
END:VEVENT
END:VCALENDAR