BEGIN:VCALENDAR
VERSION:2.0
PRODID:-//217.160.0.149//NONSGML kigkonsult.se iCalcreator 2.20//
CALSCALE:GREGORIAN
METHOD:PUBLISH
X-WR-TIMEZONE:Europe/Berlin
BEGIN:VEVENT
UID:event576@Heikendorfer TC v. 1965
DTSTAMP:20260419T133712Z
CATEGORIES:Veranstaltungen
DESCRIPTION:HTC Jugend-Sommercamp 2 2019\nKategorie: Veranstaltungen\nICS-L
 ink: https://heikendorfer-tc.de/index.php?option=com_jem&view=event&id=576
 :htc-jugend-sommercamp-2-2019\n
DTSTART;VALUE=DATE:20190805
DTEND;VALUE=DATE:20190810
LOCATION:HTC Außenplätze/Clubhaus\,Solten Wisch\,24226 Heikendorf
SUMMARY:HTC Jugend-Sommercamp 2 2019
URL:https://heikendorfer-tc.de/index.php?option=com_jem&view=event&id=576:h
 tc-jugend-sommercamp-2-2019
END:VEVENT
END:VCALENDAR