BEGIN:VCALENDAR
VERSION:2.0
PRODID:-//217.160.0.149//NONSGML kigkonsult.se iCalcreator 2.20//
CALSCALE:GREGORIAN
METHOD:PUBLISH
X-WR-TIMEZONE:Europe/Berlin
BEGIN:VEVENT
UID:event577@Heikendorfer TC v. 1965
DTSTAMP:20260419T133023Z
CATEGORIES:Veranstaltungen
DESCRIPTION:6. Ostsee Cup (Jugend)\nKategorie: Veranstaltungen\nICS-Link: h
 ttps://heikendorfer-tc.de/index.php?option=com_jem&view=event&id=577:6-ost
 see-cup-jugend\n
DTSTART;VALUE=DATE:20190719
DTEND;VALUE=DATE:20190722
LOCATION:HTC Außenplätze/Clubhaus\,Solten Wisch\,24226 Heikendorf
SUMMARY:6. Ostsee Cup (Jugend)
URL:https://heikendorfer-tc.de/index.php?option=com_jem&view=event&id=577:6
 -ostsee-cup-jugend
END:VEVENT
END:VCALENDAR