BEGIN:VCALENDAR
VERSION:2.0
PRODID:-//217.160.0.149//NONSGML kigkonsult.se iCalcreator 2.20//
CALSCALE:GREGORIAN
METHOD:PUBLISH
X-WR-TIMEZONE:Europe/Berlin
BEGIN:VEVENT
UID:event580@Heikendorfer TC v. 1965
DTSTAMP:20260419T135156Z
CATEGORIES:Veranstaltungen
DESCRIPTION:HTC Clubmeisterschaft Final Party\nKategorie: Veranstaltungen\n
 ICS-Link: https://heikendorfer-tc.de/index.php?option=com_jem&view=event&i
 d=580:htc-clubmeisterschaft-final-party\n
DTSTART:20190914T190000
DTEND:20190914T190000
LOCATION:HTC Außenplätze/Clubhaus\,Solten Wisch\,24226 Heikendorf
SUMMARY:HTC Clubmeisterschaft Final Party
URL:https://heikendorfer-tc.de/index.php?option=com_jem&view=event&id=580:h
 tc-clubmeisterschaft-final-party
END:VEVENT
END:VCALENDAR