BEGIN:VCALENDAR
VERSION:2.0
PRODID:-//217.160.0.149//NONSGML kigkonsult.se iCalcreator 2.20//
CALSCALE:GREGORIAN
METHOD:PUBLISH
X-WR-TIMEZONE:Europe/Berlin
BEGIN:VEVENT
UID:event638@Heikendorfer TC v. 1965
DTSTAMP:20260419T152732Z
CATEGORIES:Veranstaltungen
DESCRIPTION:Jahreshauptversammlung am 18.06.2020 um 19:30 Uhr \nKategorie: 
 Veranstaltungen\nICS-Link: https://heikendorfer-tc.de/index.php?option=com
 _jem&view=event&id=638:jahreshauptversammlung-am-18-06-2020-um-19-30-uhr\n
DTSTART:20200618T193000
DTEND:20200618T193000
LOCATION:HTC Außenplätze/Clubhaus\,Solten Wisch\,24226 Heikendorf
SUMMARY:Jahreshauptversammlung am 18.06.2020 um 19:30 Uhr 
URL:https://heikendorfer-tc.de/index.php?option=com_jem&view=event&id=638:j
 ahreshauptversammlung-am-18-06-2020-um-19-30-uhr
END:VEVENT
END:VCALENDAR