BEGIN:VCALENDAR
VERSION:2.0
PRODID:-//217.160.0.149//NONSGML kigkonsult.se iCalcreator 2.20//
CALSCALE:GREGORIAN
METHOD:PUBLISH
X-WR-TIMEZONE:Europe/Berlin
BEGIN:VEVENT
UID:event710@Heikendorfer TC v. 1965
DTSTAMP:20260423T113612Z
CATEGORIES:Veranstaltungen
DESCRIPTION:Start der Sommerpunktspiele ab 08. Juni 2020\nKategorie: Verans
 taltungen\nICS-Link: https://heikendorfer-tc.de/index.php?option=com_jem&v
 iew=event&id=710:start-der-sommerpunktspiele-ab-08-juni-2020\n
DTSTART;VALUE=DATE:20200608
DTEND;VALUE=DATE:20200609
SUMMARY:Start der Sommerpunktspiele ab 08. Juni 2020
URL:https://heikendorfer-tc.de/index.php?option=com_jem&view=event&id=710:s
 tart-der-sommerpunktspiele-ab-08-juni-2020
END:VEVENT
END:VCALENDAR