BEGIN:VCALENDAR
VERSION:2.0
PRODID:-//217.160.0.149//NONSGML kigkonsult.se iCalcreator 2.20//
CALSCALE:GREGORIAN
METHOD:PUBLISH
X-WR-TIMEZONE:Europe/Berlin
BEGIN:VEVENT
UID:event751@Heikendorfer TC v. 1965
DTSTAMP:20260419T133024Z
CATEGORIES:Veranstaltungen
DESCRIPTION:1. HTC Open DTB S-7\nKategorie: Veranstaltungen\nICS-Link: http
 s://heikendorfer-tc.de/index.php?option=com_jem&view=event&id=751:1-htc-op
 en-dtb-s-7\n
DTSTART:20201002T090000
DTEND:20201004T220000
LOCATION:ETV Tennishalle\,Preetzer Str. 119\,24143 Kiel
SUMMARY:1. HTC Open DTB S-7
URL:https://heikendorfer-tc.de/index.php?option=com_jem&view=event&id=751:1
 -htc-open-dtb-s-7
END:VEVENT
END:VCALENDAR