BEGIN:VCALENDAR
VERSION:2.0
PRODID:-//217.160.0.149//NONSGML kigkonsult.se iCalcreator 2.20//
CALSCALE:GREGORIAN
METHOD:PUBLISH
X-WR-TIMEZONE:Europe/Berlin
BEGIN:VEVENT
UID:event850@Heikendorfer TC v. 1965
DTSTAMP:20260419T133014Z
CATEGORIES:Veranstaltungen
DESCRIPTION:Test\nKategorie: Veranstaltungen\nICS-Link: https://heikendorfe
 r-tc.de/index.php?option=com_jem&view=event&id=850:test\n
DTSTART:20211017T090000
DTEND:20211017T150000
LOCATION:HTC Außenplätze/Clubhaus\,Solten Wisch\,24226 Heikendorf
SUMMARY:Test
URL:https://heikendorfer-tc.de/index.php?option=com_jem&view=event&id=850:t
 est
END:VEVENT
END:VCALENDAR