BEGIN:VCALENDAR
VERSION:2.0
PRODID:-//217.160.0.149//NONSGML kigkonsult.se iCalcreator 2.20//
CALSCALE:GREGORIAN
METHOD:PUBLISH
X-WR-TIMEZONE:Europe/Berlin
BEGIN:VEVENT
UID:event864@Heikendorfer TC v. 1965
DTSTAMP:20260423T101008Z
CATEGORIES:Veranstaltungen
DESCRIPTION:CM 2021\nKategorie: Veranstaltungen\nICS-Link: https://heikendo
 rfer-tc.de/index.php?option=com_jem&view=event&id=864:cm-2021\n
DTSTART;VALUE=DATE:20210510
DTEND;VALUE=DATE:20210927
LOCATION:HTC Außenplätze/Clubhaus\,Solten Wisch\,24226 Heikendorf
SUMMARY:CM 2021
URL:https://heikendorfer-tc.de/index.php?option=com_jem&view=event&id=864:c
 m-2021
END:VEVENT
END:VCALENDAR