BEGIN:VCALENDAR
VERSION:2.0
PRODID:-//217.160.0.149//NONSGML kigkonsult.se iCalcreator 2.20//
CALSCALE:GREGORIAN
METHOD:PUBLISH
X-WR-TIMEZONE:Europe/Berlin
BEGIN:VEVENT
UID:event906@Heikendorfer TC v. 1965
DTSTAMP:20260425T112413Z
CATEGORIES:Veranstaltungen
DESCRIPTION:Jahreshauptversammlung am 24.03.2022 um 19:30 Uhr \nKategorie: 
 Veranstaltungen\nICS-Link: https://heikendorfer-tc.de/index.php?option=com
 _jem&view=event&id=906:jahreshauptversammlung-am-24-03-2022-um-19-30-uhr\n
DTSTART:20220324T193000
DTEND:20220324T193000
LOCATION:HTC Außenplätze/Clubhaus\,Solten Wisch\,24226 Heikendorf
SUMMARY:Jahreshauptversammlung am 24.03.2022 um 19:30 Uhr 
URL:https://heikendorfer-tc.de/index.php?option=com_jem&view=event&id=906:j
 ahreshauptversammlung-am-24-03-2022-um-19-30-uhr
END:VEVENT
END:VCALENDAR