BEGIN:VCALENDAR
VERSION:2.0
PRODID:-//217.160.0.149//NONSGML kigkonsult.se iCalcreator 2.20//
CALSCALE:GREGORIAN
METHOD:PUBLISH
X-WR-TIMEZONE:Europe/Berlin
BEGIN:VEVENT
UID:event907@Heikendorfer TC v. 1965
DTSTAMP:20260419T133821Z
CATEGORIES:Veranstaltungen
DESCRIPTION:Großer Arbeitseinsatz Saisonvorbereitung 2022\nKategorie: Veran
 staltungen\nICS-Link: https://heikendorfer-tc.de/index.php?option=com_jem&
 view=event&id=907:grosser-arbeitseinsatz-saisonvorbereitung-2022\n
DTSTART:20220326T100000
DTEND:20220326T120000
LOCATION:HTC Außenplätze/Clubhaus\,Solten Wisch\,24226 Heikendorf
SUMMARY:Großer Arbeitseinsatz Saisonvorbereitung 2022
URL:https://heikendorfer-tc.de/index.php?option=com_jem&view=event&id=907:g
 rosser-arbeitseinsatz-saisonvorbereitung-2022
END:VEVENT
END:VCALENDAR